BEGIN:VCALENDAR
VERSION:2.0
PRODID:-//jEvents 1.5 for Joomla//EN
CALSCALE:GREGORIAN
METHOD:PUBLISH
BEGIN:VEVENT

UID:b77577db251d15336204f0e120bdec6a
CATEGORIES:Default
SUMMARY:Coffee with the Pastor
LOCATION:
DESCRIPTION;ENCODING=QUOTED-PRINTABLE:

DTSTAMP:20260423T095341Z
DTSTART:20170822T093000Z
DTEND:20170822T103000Z
SEQUENCE:0
TRANSP:OPAQUE
END:VEVENT
END:VCALENDAR