BEGIN:VCALENDAR
VERSION:2.0
PRODID:-//jEvents 1.5 for Joomla//EN
CALSCALE:GREGORIAN
METHOD:PUBLISH
BEGIN:VEVENT

UID:12a6ec6a9c9d0cc297e4ee9964ccfc58
CATEGORIES:Default
SUMMARY:Adult Bible Study
LOCATION:
DESCRIPTION;ENCODING=QUOTED-PRINTABLE:

DTSTAMP:20260423T004856Z
DTSTART:20171001T091500Z
DTEND:20171001T100000Z
SEQUENCE:0
TRANSP:OPAQUE
END:VEVENT
END:VCALENDAR