BEGIN:VCALENDAR
VERSION:2.0
PRODID:-//jEvents 1.5 for Joomla//EN
CALSCALE:GREGORIAN
METHOD:PUBLISH
BEGIN:VEVENT

UID:7d89f8b039c938dd0119bad9463fc8cc
CATEGORIES:Default
SUMMARY:Worship
LOCATION:
DESCRIPTION;ENCODING=QUOTED-PRINTABLE:

DTSTAMP:20260422T232008Z
DTSTART:20171015T103000Z
DTEND:20171015T113000Z
SEQUENCE:0
TRANSP:OPAQUE
END:VEVENT
END:VCALENDAR