BEGIN:VCALENDAR
VERSION:2.0
PRODID:-//jEvents 1.5 for Joomla//EN
CALSCALE:GREGORIAN
METHOD:PUBLISH
BEGIN:VEVENT

UID:82bc894de8075a88b85e727f85c0316a
CATEGORIES:Default
SUMMARY:Mobridge Care & Rehabilitation Center Visits
LOCATION:
DESCRIPTION;ENCODING=QUOTED-PRINTABLE:

DTSTAMP:20260419T202754Z
DTSTART:20171213T100000Z
DTEND:20171213T235959Z
SEQUENCE:0
TRANSP:OPAQUE
END:VEVENT
END:VCALENDAR