BEGIN:VCALENDAR
VERSION:2.0
PRODID:-//jEvents 1.5 for Joomla//EN
CALSCALE:GREGORIAN
METHOD:PUBLISH
BEGIN:VEVENT

UID:c74a29c9de4e33180af70d08c50336e8
CATEGORIES:Default
SUMMARY:Confirmation, Adult Bible Study, Sunday school
LOCATION:
DESCRIPTION;ENCODING=QUOTED-PRINTABLE:

DTSTAMP:20260419T202759Z
DTSTART:20171210T093000Z
DTEND:20171210T102500Z
SEQUENCE:0
TRANSP:OPAQUE
END:VEVENT
END:VCALENDAR