BEGIN:VCALENDAR
VERSION:2.0
PRODID:-//jEvents 1.5 for Joomla//EN
CALSCALE:GREGORIAN
METHOD:PUBLISH
BEGIN:VEVENT

UID:d0c85f8625fd30f05cf973c0110ec9b4
CATEGORIES:Default
SUMMARY:Pastor Keith at CREDO
LOCATION:
DESCRIPTION;ENCODING=QUOTED-PRINTABLE:

DTSTAMP:20260423T072429Z
DTSTART:20180429T080000Z
DTEND:20180429T235959Z
SEQUENCE:0
TRANSP:OPAQUE
END:VEVENT
END:VCALENDAR