BEGIN:VCALENDAR
VERSION:2.0
PRODID:-//jEvents 1.5 for Joomla//EN
CALSCALE:GREGORIAN
METHOD:PUBLISH
BEGIN:VEVENT

UID:98eb28252323e4d96cf71bd70a3f99cb
CATEGORIES:Default
SUMMARY:Pastor Keith on Sabbatical
LOCATION:
DESCRIPTION;ENCODING=QUOTED-PRINTABLE:

DTSTAMP:20260421T202615Z
DTSTART:20180724T080000Z
DTEND:20180724T235959Z
SEQUENCE:0
TRANSP:OPAQUE
END:VEVENT
END:VCALENDAR