BEGIN:VCALENDAR
VERSION:2.0
PRODID:-//jEvents 1.5 for Joomla//EN
CALSCALE:GREGORIAN
METHOD:PUBLISH
BEGIN:VEVENT

UID:756ede7483ed29ac6b3f9419e14b7830
CATEGORIES:Default
SUMMARY:Sunday School
LOCATION:
DESCRIPTION;ENCODING=QUOTED-PRINTABLE:

DTSTAMP:20260420T215231Z
DTSTART:20181118T093000Z
DTEND:20181118T102500Z
SEQUENCE:0
TRANSP:OPAQUE
END:VEVENT
END:VCALENDAR