BEGIN:VCALENDAR
VERSION:2.0
PRODID:-//jEvents 1.5 for Joomla//EN
CALSCALE:GREGORIAN
METHOD:PUBLISH
BEGIN:VEVENT

UID:dc4ce294cf57b7b10949c54b154965f1
CATEGORIES:Default
SUMMARY:No Pastor
LOCATION:
DESCRIPTION;ENCODING=QUOTED-PRINTABLE:

DTSTAMP:20260424T160059Z
DTSTART:20130507
DTEND:20130507
SEQUENCE:0
TRANSP:OPAQUE
END:VEVENT
END:VCALENDAR