BEGIN:VCALENDAR
VERSION:2.0
PRODID:-//jEvents 1.5 for Joomla//EN
CALSCALE:GREGORIAN
METHOD:PUBLISH
BEGIN:VEVENT

UID:a29923f9a86c69770ed3825327e718cf
CATEGORIES:Default
SUMMARY:Annual Conference Meeting
LOCATION:Omaha, NE
DESCRIPTION;ENCODING=QUOTED-PRINTABLE:

DTSTAMP:20260421T231332Z
DTSTART:20190614T080000Z
DTEND:20190614T235959Z
SEQUENCE:0
TRANSP:OPAQUE
END:VEVENT
END:VCALENDAR