BEGIN:VCALENDAR
VERSION:2.0
PRODID:-//jEvents 1.5 for Joomla//EN
CALSCALE:GREGORIAN
METHOD:PUBLISH
BEGIN:VEVENT

UID:1ee6d0942329f5b301e319316c196129
CATEGORIES:Default
SUMMARY:VBS-Roar
LOCATION:Trinity Lutheran
DESCRIPTION;ENCODING=QUOTED-PRINTABLE:
X-EXTRAINFO:5:30-6:00 pm VBS Supper6:00 pm Opening/Singing6:30 pm Groups8:00 pm Closing
 /Singing
DTSTAMP:20260420T044730Z
DTSTART:20190716T173000Z
DTEND:20190716T200000Z
SEQUENCE:0
TRANSP:OPAQUE
END:VEVENT
END:VCALENDAR