BEGIN:VCALENDAR
VERSION:2.0
PRODID:-//jEvents 1.5 for Joomla//EN
CALSCALE:GREGORIAN
METHOD:PUBLISH
BEGIN:VEVENT

UID:49ebc39dc2acad252d4228f648e64735
CATEGORIES:Default
SUMMARY:Worship Online
LOCATION:
DESCRIPTION;ENCODING=QUOTED-PRINTABLE:

DTSTAMP:20260422T091927Z
DTSTART:20200517T103000Z
DTEND:20200517T111500Z
SEQUENCE:0
TRANSP:OPAQUE
END:VEVENT
END:VCALENDAR