BEGIN:VCALENDAR
VERSION:2.0
PRODID:-//jEvents 1.5 for Joomla//EN
CALSCALE:GREGORIAN
METHOD:PUBLISH
BEGIN:VEVENT

UID:fcac4fc1ebff99e9d2023c8df0657eea
CATEGORIES:Default
SUMMARY:Adult Bible Study/ Confirmation Class
LOCATION:
DESCRIPTION;ENCODING=QUOTED-PRINTABLE:

DTSTAMP:20260423T171540Z
DTSTART:20131208T093000Z
DTEND:20131208T235959Z
SEQUENCE:0
TRANSP:OPAQUE
END:VEVENT
END:VCALENDAR