BEGIN:VCALENDAR
VERSION:2.0
PRODID:-//jEvents 1.5 for Joomla//EN
CALSCALE:GREGORIAN
METHOD:PUBLISH
BEGIN:VEVENT

UID:858aee762349a02e6cfb9e26928874cf
CATEGORIES:Default
SUMMARY:Cafe Chocolat Women's Bible Study
LOCATION:
DESCRIPTION;ENCODING=QUOTED-PRINTABLE:

DTSTAMP:20260423T061801Z
DTSTART:20140921T150000Z
DTEND:20140921T170000Z
SEQUENCE:0
TRANSP:OPAQUE
END:VEVENT
END:VCALENDAR